BEGIN:VCALENDAR
VERSION:2.0
PRODID:-//ChamberMaster//Event Calendar 2.0//EN
METHOD:PUBLISH
X-PUBLISHED-TTL:P3D
REFRESH-INTERVAL:P3D
CALSCALE:GREGORIAN
BEGIN:VEVENT
DTSTART:20260513T153000Z
DTEND:20260513T170000Z
X-MICROSOFT-CDO-ALLDAYEVENT:FALSE
SUMMARY:SHRM High Point May Meeting - Financial Wellness for Your Employees
DESCRIPTION:Join SHRM High Point for our May meeting where Sam Soots\, CFP\, CRPS leads a discussion on discovering how financial wellness impacts your workforce and your organization. This engaging session will provide practical insights HR professionals can use right away. WHAT YOU'LL LEARN. What financial wellness means in today's workplace. How finances influence employee behavior. The link between financial health and business outcomes. Where HR can make the biggest impact
X-ALT-DESC;FMTTYPE=text/html:Join SHRM High Point for our May meeting where Sam Soots\, CFP\, CRPS leads a discussion on discovering how financial wellness impacts your workforce and your organization. This engaging session will provide practical insights HR professionals can use right away. WHAT YOU&rsquo\;LL LEARN. What financial wellness means in today&rsquo\;s workplace. How finances influence employee behavior. The link between financial health and business outcomes. Where HR can make the biggest impact
LOCATION:High Point Country Club
UID:e.667.5525
SEQUENCE:3
DTSTAMP:20260421T090139Z
URL:https://members.bhpchamber.org/events/details/shrm-high-point-may-meeting-financial-wellness-for-your-employees-5525
END:VEVENT

END:VCALENDAR
