BEGIN:VCALENDAR
VERSION:2.0
PRODID:-//ChamberMaster//Event Calendar 2.0//EN
METHOD:PUBLISH
X-PUBLISHED-TTL:P3D
REFRESH-INTERVAL:P3D
CALSCALE:GREGORIAN
BEGIN:VEVENT
DTSTART:20260520T130000Z
DTEND:20260520T150000Z
X-MICROSOFT-CDO-ALLDAYEVENT:FALSE
SUMMARY:2026 The Interchange Tech Training | Sustainable Fundraising Strategies
DESCRIPTION:Course Description\n\nDesigned for today's economic climate\, this session explores practical fundraising approaches when resources are tight. Participants will learn how to engage donors\, use modern tools\, and build sustainable fundraising strategies.\n\n\n\nLearning Outcomes\n\n	Build fundraising campaigns\n	Engage donors\n	Use modern tools\n	Strengthen sustainability
X-ALT-DESC;FMTTYPE=text/html:<span style="font-size:14px\;"><span style="font-family:arial\;"><strong>Course Description</strong><br />\nDesigned for today&rsquo\;s economic climate\, this session explores practical fundraising approaches when resources are tight. Participants will learn how to engage donors\, use modern tools\, and build sustainable fundraising strategies.<br />\n<br />\n<strong>Learning Outcomes</strong></span></span>\n<ul>\n	<li><span style="font-size:14px\;"><span style="font-family:arial\;">Build fundraising campaigns</span></span></li>\n	<li><span style="font-size:14px\;"><span style="font-family:arial\;">Engage donors</span></span></li>\n	<li><span style="font-size:14px\;"><span style="font-family:arial\;">Use modern tools</span></span></li>\n	<li><span style="font-size:14px\;"><span style="font-family:arial\;">Strengthen sustainability</span></span></li>\n</ul>\n
LOCATION:400 W English Rd High Point\, NC 27262 3rd Floor\, Weaving Room
UID:e.667.5214
SEQUENCE:3
DTSTAMP:20260421T213759Z
URL:https://members.bhpchamber.org/events/details/2026-the-interchange-tech-training-sustainable-fundraising-strategies-5214
END:VEVENT

END:VCALENDAR
