BEGIN:VCALENDAR
VERSION:2.0
PRODID:-//ChamberMaster//Event Calendar 2.0//EN
METHOD:PUBLISH
X-PUBLISHED-TTL:P3D
REFRESH-INTERVAL:P3D
CALSCALE:GREGORIAN
BEGIN:VEVENT
DTSTART:20260401T130000Z
DTEND:20260401T150000Z
X-MICROSOFT-CDO-ALLDAYEVENT:FALSE
SUMMARY:2026 The Interchange Tech Training | QuickBooks Reporting & Insights
DESCRIPTION:Course Description\n\nLearn how to use QuickBooks reports and advanced features to gain deeper insight into your organization's financial health. Participants will learn how to interpret key financial reports\, explore budgeting and tracking tools\, and apply data to support informed business decisions.\n\n\n\nLearning Outcomes:\n\n	Interpret reports\n	Explore budgeting tools\n	Use advanced settings\n	Support decisions with data\n\nRecommended Prerequisites:\n\nParticipants should have prior experience using QuickBooks Online\, including entering transactions and navigating basic workflows. Completion of QuickBooks Foundations: Get Set Up Right and Streamlining Finances with QuickBooks or equivalent hands-on experience is strongly recommended.
X-ALT-DESC;FMTTYPE=text/html:<span style="font-size:14px\;"><span style="font-family:arial\;"><strong>Course Description</strong><br />\nLearn how to use QuickBooks reports and advanced features to gain deeper insight into your organization&rsquo\;s financial health. Participants will learn how to interpret key financial reports\, explore budgeting and tracking tools\, and apply data to support informed business decisions.<br />\n<br />\n<strong>Learning Outcomes:</strong></span></span>\n<ul>\n	<li><span style="font-size:14px\;"><span style="font-family:arial\;">Interpret reports</span></span></li>\n	<li><span style="font-size:14px\;"><span style="font-family:arial\;">Explore budgeting tools</span></span></li>\n	<li><span style="font-size:14px\;"><span style="font-family:arial\;">Use advanced settings</span></span></li>\n	<li><span style="font-size:14px\;"><span style="font-family:arial\;">Support decisions with data</span></span></li>\n</ul>\n<span style="font-size:14px\;"><span style="font-family:arial\;"><strong>Recommended Prerequisites:</strong><br />\n<span style="color:#FF8C00\;">Participants should have prior experience using QuickBooks Online\, including entering transactions and navigating basic workflows. Completion of <em data-end="321" data-start="288">QuickBooks Foundations: Get Set Up Right&nbsp\;</em>and <em data-end="371" data-start="326">Streamlining Finances with QuickBooks&nbsp\;</em>or equivalent hands-on experience is strongly recommended.</span></span></span><br />\n<br />\n&nbsp\;
LOCATION:400 W English Rd High Point\, NC 27262 3rd Floor\, Weaving Room
UID:e.667.5207
SEQUENCE:3
DTSTAMP:20260421T013256Z
URL:https://members.bhpchamber.org/events/details/2026-the-interchange-tech-training-quickbooks-reporting-insights-5207
END:VEVENT

END:VCALENDAR
