BEGIN:VCALENDAR
VERSION:2.0
PRODID:-//ChamberMaster//Event Calendar 2.0//EN
METHOD:PUBLISH
X-PUBLISHED-TTL:P3D
REFRESH-INTERVAL:P3D
CALSCALE:GREGORIAN
BEGIN:VEVENT
DTSTART:20260527T130000Z
DTEND:20260527T150000Z
X-MICROSOFT-CDO-ALLDAYEVENT:FALSE
SUMMARY:2026 The Interchange Tech Training | Grant Writing: Finding the Right Fit
DESCRIPTION:Course Description\n\nThis session helps participants identify and pursue grants that align with their mission. Learn how to evaluate opportunities\, interpret guidelines\, and craft compelling grant narratives.\n\n\n\nLearning Outcomes\n\n	Identify grants\n	Interpret guidelines\n	Write compelling narratives\n	 Improve funding success
X-ALT-DESC;FMTTYPE=text/html:<div style="font-size: 14px\;"><span style="font-family:arial\;"><strong>Course Description</strong><br />\nThis session helps participants identify and pursue grants that align with their mission. Learn how to evaluate opportunities\, interpret guidelines\, and craft compelling grant narratives.<br />\n<br />\n<strong>Learning Outcomes</strong></span>\n<ul>\n	<li><span style="font-family:arial\;">Identify grants</span></li>\n	<li><span style="font-family:arial\;">Interpret guidelines</span></li>\n	<li><span style="font-family:arial\;">Write compelling narratives</span></li>\n	<li><span style="font-family:arial\;">&#8203\;<span style="font-size:14px\;"><span style="font-family:arial\;">Improve funding success</span></span></span></li>\n</ul>\n</div>\n
LOCATION:400 W English Rd High Point\, NC 27262 3rd Floor\, Weaving Room
UID:e.667.5215
SEQUENCE:3
DTSTAMP:20260421T212630Z
URL:https://members.bhpchamber.org/events/details/2026-the-interchange-tech-training-grant-writing-finding-the-right-fit-5215
END:VEVENT

END:VCALENDAR
