BEGIN:VCALENDAR
VERSION:2.0
PRODID:-//ChamberMaster//Event Calendar 2.0//EN
METHOD:PUBLISH
X-PUBLISHED-TTL:P3D
REFRESH-INTERVAL:P3D
CALSCALE:GREGORIAN
BEGIN:VEVENT
DTSTART:20260506T130000Z
DTEND:20260506T150000Z
X-MICROSOFT-CDO-ALLDAYEVENT:FALSE
SUMMARY:2026 The Interchange Tech Training | AI for Operations and Productivity
DESCRIPTION:Course Description\n\nThis session explores how AI can streamline administrative work and internal processes. Participants will learn how to automate tasks\, improve workflows\, and increase efficiency using accessible AI tools.\n\n\n\nLearning Outcomes\n\n	Automate tasks\n	Improve workflows\n	Use AI for reporting\n	Increase efficiency
X-ALT-DESC;FMTTYPE=text/html:<strong>Course Description</strong><br />\nThis session explores how AI can streamline administrative work and internal processes. Participants will learn how to automate tasks\, improve workflows\, and increase efficiency using accessible AI tools.<br />\n<br />\n<strong>Learning Outcomes</strong>\n<ul>\n	<li>Automate tasks</li>\n	<li>Improve workflows</li>\n	<li>Use AI for reporting</li>\n	<li>Increase efficiency</li>\n</ul>\n
LOCATION:400 W English Rd High Point\, NC 27262 3rd Floor\, Weaving Room
UID:e.667.5212
SEQUENCE:3
DTSTAMP:20260421T212524Z
URL:https://members.bhpchamber.org/events/details/2026-the-interchange-tech-training-ai-for-operations-and-productivity-5212
END:VEVENT

END:VCALENDAR
