BEGIN:VCALENDAR
VERSION:2.0
PRODID:-//ChamberMaster//Event Calendar 2.0//EN
METHOD:PUBLISH
X-PUBLISHED-TTL:P3D
REFRESH-INTERVAL:P3D
CALSCALE:GREGORIAN
BEGIN:VEVENT
DTSTART:20260513T130000Z
DTEND:20260513T150000Z
X-MICROSOFT-CDO-ALLDAYEVENT:FALSE
SUMMARY:2026 The Interchange Tech Training | AI for Customer Retention & Loyalty
DESCRIPTION:Course Description\n\nLearn how AI insights can help strengthen customer relationships. This session focuses on predicting churn\, personalizing customer journeys\, and using feedback data to improve retention and loyalty strategies.\n\n\n\nLearning Outcomes\n\n	Predict churn\n	Personalize journeys\n	Analyze feedback\n	Build loyalty strategies
X-ALT-DESC;FMTTYPE=text/html:<span style="font-family:arial\;"><span style="font-size:14px\;"><strong>Course Description</strong><br />\nLearn how AI insights can help strengthen customer relationships. This session focuses on predicting churn\, personalizing customer journeys\, and using feedback data to improve retention and loyalty strategies.<br />\n<br />\n<strong>Learning Outcomes</strong></span></span>\n<ul>\n	<li><span style="font-family:arial\;"><span style="font-size:14px\;">Predict churn</span></span></li>\n	<li><span style="font-family:arial\;"><span style="font-size:14px\;">Personalize journeys</span></span></li>\n	<li><span style="font-family:arial\;"><span style="font-size:14px\;">Analyze feedback</span></span></li>\n	<li><span style="font-family:arial\;"><span style="font-size:14px\;">Build loyalty strategies</span></span></li>\n</ul>\n
LOCATION:400 W English Rd High Point\, NC 27262 3rd Floor\, Weaving Room
UID:e.667.5213
SEQUENCE:3
DTSTAMP:20260426T025255Z
URL:https://members.bhpchamber.org/events/details/2026-the-interchange-tech-training-ai-for-customer-retention-loyalty-5213
END:VEVENT

END:VCALENDAR
