BEGIN:VCALENDAR
VERSION:2.0
PRODID:-//ChamberMaster//Event Calendar 2.0//EN
METHOD:PUBLISH
X-PUBLISHED-TTL:P3D
REFRESH-INTERVAL:P3D
CALSCALE:GREGORIAN
BEGIN:VEVENT
DTSTART:20250515T150000Z
DTEND:20250515T220000Z
X-MICROSOFT-CDO-ALLDAYEVENT:FALSE
SUMMARY:2025 Pinnacle Financial Partners Robert McInnis Memorial Golf Tournament
DESCRIPTION:Pinnacle Financial Partners Robert McInnis Memorial Golf Tournament\n\nEach year\, our Captain's Choice fundraising tournament welcomes members and their guests for a day of golf\, camaraderie\, and community support. \n\nHonoring Robert McInnis\n\nIn memory of Robert McInnis\, former president and chairman of High Point Bank until his passing in 2002\, Business High Point   Chamber of Commerce proudly hosts this annual tournament to celebrate his lasting legacy and service.\n\nContests & Activities\n\n\n	Putting Contest\n	Hole-In-One Challenge\n	Longest Drive Competition\n	Closest to the Pin\n	First Place Team Prize\n	Exciting Raffle Prizes\n\nPlayer Add-Ons\n\nPlayer add-ons will be available for purchase at the registration table using either cash or credit card. Options include raffle tickets\, entry into the putting contest\, mulligans\, and more to enhance your tournament experience.\nCourse Rules\n\n\n	No one under the age of 16 or without a driver's license is allowed to drive the golf cars. \n	Shirts with collars are required.\n	No Jeans or cut-off shorts are allowed.\n	No outside coolers are allowed. High Point Country Club provides coolers on each golf car. \n	Willow Creek is a soft-spike only facility.
X-ALT-DESC;FMTTYPE=text/html:<h3 data-end="134" data-start="78"><strong data-end="132" data-start="82">Pinnacle Financial Partners&nbsp\;Robert McInnis Memorial Golf Tournament</strong></h3>\n\n<p data-end="369" data-start="136"><span style="font-size:12px\;"><span style="font-family:arial\;">Each year\, our <strong data-end="171" data-start="151">Captain&rsquo\;s Choice</strong> fundraising tournament welcomes members and their guests for a day of golf\, camaraderie\, and community support.&nbsp\;</span></span></p>\n\n<h3 data-end="404" data-start="371"><span style="font-size:12px\;"><span style="font-family:arial\;"><strong data-end="402" data-start="375">Honoring Robert McInnis</strong></span></span></h3>\n\n<p data-end="643" data-start="405"><span style="font-size:12px\;"><span style="font-family:arial\;">In memory of <strong data-end="436" data-start="418">Robert McInnis</strong>\, former president and chairman of High Point Bank until his passing in 2002\, <strong data-end="559" data-start="514">Business High Point &ndash\; Chamber of Commerce</strong> proudly hosts this annual tournament to celebrate his lasting legacy and service.</span></span></p>\n\n<h3 data-end="676" data-start="645"><span style="font-size:12px\;"><span style="font-family:arial\;"><strong data-end="674" data-start="649">Contests &amp\; Activities</strong></span></span></h3>\n\n<ul data-end="853" data-start="677">\n	<li data-end="700" data-start="677"><span style="font-size:12px\;"><span style="font-family:arial\;"><strong data-end="698" data-start="679">Putting Contest</strong></span></span></li>\n	<li data-end="730" data-start="701"><span style="font-size:12px\;"><span style="font-family:arial\;"><strong data-end="728" data-start="703">Hole-In-One Challenge</strong></span></span></li>\n	<li data-end="764" data-start="731"><span style="font-size:12px\;"><span style="font-family:arial\;"><strong data-end="762" data-start="733">Longest Drive Competition</strong></span></span></li>\n	<li data-end="791" data-start="765"><span style="font-size:12px\;"><span style="font-family:arial\;"><strong data-end="789" data-start="767">Closest to the Pin</strong></span></span></li>\n	<li data-end="822" data-start="792"><span style="font-size:12px\;"><span style="font-family:arial\;"><strong data-end="820" data-start="794">First Place Team Prize</strong></span></span></li>\n	<li data-end="853" data-start="823"><span style="font-size:12px\;"><span style="font-family:arial\;"><strong data-end="851" data-start="825">Exciting Raffle Prizes</strong></span></span></li>\n</ul>\nPlayer Add-Ons<br />\nPlayer add-ons will be available for purchase at the registration table using either cash or credit card. Options include raffle tickets\, entry into the putting contest\, mulligans\, and more to enhance your tournament experience.\n<h3 data-end="965" data-start="940"><span style="font-size:12px\;"><span style="font-family:arial\;"><strong data-end="963" data-start="944">Course Rules</strong></span></span></h3>\n\n<ul>\n	<li><span style="font-size:12px\;"><span style="font-family:arial\;">No one under the age of 16 or without a driver&#39\;s license is allowed to drive the golf cars.&nbsp\;</span></span></li>\n	<li><span style="font-size:12px\;"><span style="font-family:arial\;">Shirts with collars are required.</span></span></li>\n	<li><span style="font-size:12px\;"><span style="font-family:arial\;">No Jeans or cut-off shorts are allowed.</span></span></li>\n	<li><span style="font-size:12px\;"><span style="font-family:arial\;">No outside coolers are allowed. High Point Country Club provides coolers on each golf car.&nbsp\;</span></span></li>\n	<li><span style="font-size:12px\;"><span style="font-family:arial\;">Willow Creek is a soft-spike only facility.</span></span></li>\n</ul>\n
LOCATION:Willow Creek Golf Course 916 Abbotts Creek Church Road High Point\, NC 27265
UID:e.667.4934
SEQUENCE:3
DTSTAMP:20260421T090502Z
URL:https://members.bhpchamber.org/events/details/2025-pinnacle-financial-partners-robert-mcinnis-memorial-golf-tournament-4934
END:VEVENT

END:VCALENDAR
